BEGIN:VCALENDAR
VERSION:2.0
PRODID:-//Tampa Bay Beer Week - ECPv6.15.20//NONSGML v1.0//EN
CALSCALE:GREGORIAN
METHOD:PUBLISH
X-WR-CALNAME:Tampa Bay Beer Week
X-ORIGINAL-URL:https://www.tampabaybeerweek.com
X-WR-CALDESC:Events for Tampa Bay Beer Week
REFRESH-INTERVAL;VALUE=DURATION:PT1H
X-Robots-Tag:noindex
X-PUBLISHED-TTL:PT1H
BEGIN:VTIMEZONE
TZID:America/New_York
BEGIN:DAYLIGHT
TZOFFSETFROM:-0500
TZOFFSETTO:-0400
TZNAME:EDT
DTSTART:20250309T070000
END:DAYLIGHT
BEGIN:STANDARD
TZOFFSETFROM:-0400
TZOFFSETTO:-0500
TZNAME:EST
DTSTART:20251102T060000
END:STANDARD
BEGIN:DAYLIGHT
TZOFFSETFROM:-0500
TZOFFSETTO:-0400
TZNAME:EDT
DTSTART:20260308T070000
END:DAYLIGHT
BEGIN:STANDARD
TZOFFSETFROM:-0400
TZOFFSETTO:-0500
TZNAME:EST
DTSTART:20261101T060000
END:STANDARD
BEGIN:DAYLIGHT
TZOFFSETFROM:-0500
TZOFFSETTO:-0400
TZNAME:EDT
DTSTART:20270314T070000
END:DAYLIGHT
BEGIN:STANDARD
TZOFFSETFROM:-0400
TZOFFSETTO:-0500
TZNAME:EST
DTSTART:20271107T060000
END:STANDARD
END:VTIMEZONE
BEGIN:VEVENT
DTSTART;TZID=America/New_York:20260302T080000
DTEND;TZID=America/New_York:20260302T170000
DTSTAMP:20260422T052918
CREATED:20260304T183709Z
LAST-MODIFIED:20260304T183709Z
UID:2370-1772438400-1772470800@www.tampabaybeerweek.com
SUMMARY:Potter’s Craft Cider - Tasting
DESCRIPTION:Join us at Whole Foods – Carrollwood to sample Potter’s cider. Our ciders are crafted in Virginia\, with apples from the foothills of the Blue Ridge mountains. We ferment out all residual sugar\, and add zero sugar\, yielding fruity\, delightful ciders\, all with 0g total sugar!
URL:https://www.tampabaybeerweek.com/events/potters-craft-cider-tasting-3/
LOCATION:Whole Foods – Carrollwood\, 3802 Northdale Blvd\, Tampa\, 33624
CATEGORIES:Sampling
ATTACH;FMTTYPE=image/jpeg:https://www.tampabaybeerweek.com/wp-content/uploads/2026/03/PottersLOGO11-small-square-3.jpg
END:VEVENT
BEGIN:VEVENT
DTSTART;TZID=America/New_York:20260307T110000
DTEND;TZID=America/New_York:20260307T230000
DTSTAMP:20260422T052918
CREATED:20260307T173150Z
LAST-MODIFIED:20260307T173150Z
UID:2603-1772881200-1772924400@www.tampabaybeerweek.com
SUMMARY:Brews Banner Pairing and Cider and THC Loft
DESCRIPTION:Dig into a special Brews Banner pairing menu\, then head upstairs to the Loft for featured pours from Fallen Fruit Hard Cider and High Dive THC beverages.
URL:https://www.tampabaybeerweek.com/events/brews-banner-pairing-and-cider-and-thc-loft/
LOCATION:Coppertail Brewing Company
CATEGORIES:Beer Week 2026,Food Pairing,Sampling
ATTACH;FMTTYPE=image/jpeg:https://www.tampabaybeerweek.com/wp-content/uploads/2026/03/TBBW2026_Events_07_IG.jpg
END:VEVENT
BEGIN:VEVENT
DTSTART;TZID=America/New_York:20260308T120000
DTEND;TZID=America/New_York:20260308T150000
DTSTAMP:20260422T052918
CREATED:20260304T183857Z
LAST-MODIFIED:20260304T183857Z
UID:2361-1772971200-1772982000@www.tampabaybeerweek.com
SUMMARY:Potter’s Craft Cider - Tasting
DESCRIPTION:Join us at Whole Foods – Midtown Tampa to sample Potter’s cider. Our ciders are crafted in Virginia\, with apples from the foothills of the Blue Ridge mountains. We ferment out all residual sugar\, and add zero sugar\, yielding fruity\, delightful ciders\, all with 0g total sugar!
URL:https://www.tampabaybeerweek.com/events/potters-craft-cider-tasting-6/
LOCATION:Whole Foods – Midtown Tampa\, 3740 Midtown Dr\, Tampa\, 33607
CATEGORIES:Sampling
ATTACH;FMTTYPE=image/jpeg:https://www.tampabaybeerweek.com/wp-content/uploads/2026/03/PottersLOGO11-small-square-2.jpg
END:VEVENT
BEGIN:VEVENT
DTSTART;TZID=America/New_York:20260311T133000
DTEND;TZID=America/New_York:20260311T153000
DTSTAMP:20260422T052918
CREATED:20260304T183800Z
LAST-MODIFIED:20260304T183800Z
UID:2377-1773235800-1773243000@www.tampabaybeerweek.com
SUMMARY:Potter’s Craft Cider - Tasting
DESCRIPTION:Join us at Earth Origins in St. Pete to sample Potter’s cider. Our ciders are crafted in Virginia\, with apples from the foothills of the Blue Ridge mountains. We ferment out all residual sugar\, and add zero sugar\, yielding fruity\, delightful ciders\, all with 0g total sugar!
URL:https://www.tampabaybeerweek.com/events/potters-craft-cider-tasting-4/
LOCATION:Earth Origins – St. Pete\, 6651 Central Ave\, St. Petersburg\, 33710
CATEGORIES:Sampling
ATTACH;FMTTYPE=image/jpeg:https://www.tampabaybeerweek.com/wp-content/uploads/2026/03/PottersLOGO11-small-square-4.jpg
END:VEVENT
BEGIN:VEVENT
DTSTART;TZID=America/New_York:20260311T160000
DTEND;TZID=America/New_York:20260311T180000
DTSTAMP:20260422T052918
CREATED:20260304T183618Z
LAST-MODIFIED:20260304T183646Z
UID:2342-1773244800-1773252000@www.tampabaybeerweek.com
SUMMARY:Potter’s Craft Cider – Tasting
DESCRIPTION:Join us at Rollin’ Oats St. Pete on Wednesday\, March 11 from 4pm-6pm to sample Potter’s cider. Our ciders are crafted in Virginia\, with apples from the foothills of the Blue Ridge mountains. We ferment out all residual sugar\, and add zero sugar\, yielding fruity\, delightful ciders\, all with 0g total sugar!
URL:https://www.tampabaybeerweek.com/events/potters-craft-cider-tasting-2/
LOCATION:Rollin Oats – St. Pete\, 2842 Dr Martin Luther King Jr St N\, St. Petersburg\, 33704
CATEGORIES:Sampling
ATTACH;FMTTYPE=image/jpeg:https://www.tampabaybeerweek.com/wp-content/uploads/2026/03/PottersLOGO11-small-square.jpg
END:VEVENT
BEGIN:VEVENT
DTSTART;TZID=America/New_York:20260312T160000
DTEND;TZID=America/New_York:20260312T190000
DTSTAMP:20260422T052918
CREATED:20260304T183823Z
LAST-MODIFIED:20260304T183823Z
UID:2391-1773331200-1773342000@www.tampabaybeerweek.com
SUMMARY:Potter’s Craft Cider - Tasting
DESCRIPTION:Join us at Luekens Liquors off Dale Mabry (Midtown Tampa) to sample Potter’s cider. Our ciders are crafted in Virginia\, with apples from the foothills of the Blue Ridge mountains. We ferment out all residual sugar\, and add zero sugar\, yielding fruity\, delightful ciders\, all with 0g total sugar!
URL:https://www.tampabaybeerweek.com/events/potters-craft-cider-tasting-5/
LOCATION:Luekens Liquors – Dale Mabry\, 236 N Dale Mabry Hwy\, Tampa\, 33609
CATEGORIES:Sampling
ATTACH;FMTTYPE=image/jpeg:https://www.tampabaybeerweek.com/wp-content/uploads/2026/03/PottersLOGO11-small-square-5.jpg
END:VEVENT
END:VCALENDAR